BEGIN:VCALENDAR
VERSION:2.0
PRODID:-//eventon.com NONSGML v1.0//EN
CALSCALE:GREGORIAN
METHOD:PUBLISH
BEGIN:VEVENT
UID:69e5ab00c7654
DTSTAMP:20260420T042640Z
DTSTART:20260711T182900Z
DTEND:20260711T182900Z
LOCATION:
SUMMARY:Pacific NW Vintage Motocross #4 - Night Race
DESCRIPTION:Pacific NW Vintage Motocross #4 - Night Race\nhttps://moto-paci
 fic.com/events/pacific-nw-vintage-motocross26/
URL:https://moto-pacific.com/events/pacific-nw-vintage-motocross26/
END:VEVENT
END:VCALENDAR