BEGIN:VCALENDAR
VERSION:2.0
PRODID:-//eventon.com NONSGML v1.0//EN
CALSCALE:GREGORIAN
METHOD:PUBLISH
BEGIN:VEVENT
UID:69e5903064c66
DTSTAMP:20260420T023216Z
DTSTART:20261025T140000Z
DTEND:20261025T170000Z
LOCATION:Enumclaw Expo Center - Field House 1456 Roosevelt Ave E\,  Enumclaw\,  WA 98022
SUMMARY:2026 Friday Night MX Series Banquet
DESCRIPTION:2026 Friday Night MX Series Banquet\nhttps://moto-pacific.com/e
 vents/2026-friday-night-mx-series-banquet/
URL:https://moto-pacific.com/events/2026-friday-night-mx-series-banquet/
END:VEVENT
END:VCALENDAR