BEGIN:VCALENDAR
VERSION:2.0
PRODID:-//eventon.com NONSGML v1.0//EN
CALSCALE:GREGORIAN
METHOD:PUBLISH
BEGIN:VEVENT
UID:69e5926c85290
DTSTAMP:20260420T024148Z
DTSTART:20260614
DTEND:20260615
LOCATION:Pacific Raceways 31001 144th Ave SE\,  Kent\,  Wa. 98042
SUMMARY:PRO Northwest MX Series #8
DESCRIPTION:PRO Northwest MX Series #8\nhttps://moto-pacific.com/events/pro
 -northwest-mx-series26_08/
URL:https://moto-pacific.com/events/pro-northwest-mx-series26_08/
END:VEVENT
END:VCALENDAR