BEGIN:VCALENDAR
VERSION:2.0
PRODID:-//eventon.com NONSGML v1.0//EN
CALSCALE:GREGORIAN
METHOD:PUBLISH
BEGIN:VEVENT
UID:69e593ee2173f
DTSTAMP:20260420T024814Z
DTSTART:20260613
DTEND:20260614
LOCATION:Pacific Raceways 31001 144th Ave SE\,  Kent\,  Wa. 98042
SUMMARY:PRO Northwest MX Series #7
DESCRIPTION:PRO Northwest MX Series #7\nhttps://moto-pacific.com/events/pro
 -northwest-mx-series26_07/
URL:https://moto-pacific.com/events/pro-northwest-mx-series26_07/
END:VEVENT
END:VCALENDAR