BEGIN:VCALENDAR
VERSION:2.0
PRODID:-//eventon.com NONSGML v1.0//EN
CALSCALE:GREGORIAN
METHOD:PUBLISH
BEGIN:VEVENT
UID:69e5ab84a86d9
DTSTAMP:20260420T042852Z
DTSTART:20260821T220000Z
DTEND:20260822T050000Z
LOCATION:Pacific Raceways 31001 144th Ave SE\,  Kent\,  Wa. 98042
SUMMARY:Friday Night MX Series - MAKE UP DATE
DESCRIPTION:Friday Night MX Series - MAKE UP DATE\nhttps://moto-pacific.com
 /events/friday-night-mx-series26_13/
URL:https://moto-pacific.com/events/friday-night-mx-series26_13/
END:VEVENT
END:VCALENDAR