BEGIN:VCALENDAR
VERSION:2.0
PRODID:-//eventon.com NONSGML v1.0//EN
CALSCALE:GREGORIAN
METHOD:PUBLISH
BEGIN:VEVENT
UID:69e591b72753c
DTSTAMP:20260420T023847Z
DTSTART:20260814T220000Z
DTEND:20260815T050000Z
LOCATION:Pacific Raceways 31001 144th Ave SE\,  Kent\,  Wa. 98042
SUMMARY:Friday Night MX Series #12
DESCRIPTION:Friday Night MX Series #12\nhttps://moto-pacific.com/events/fri
 day-night-mx-series26_12/
URL:https://moto-pacific.com/events/friday-night-mx-series26_12/
END:VEVENT
END:VCALENDAR