BEGIN:VCALENDAR
VERSION:2.0
PRODID:-//eventon.com NONSGML v1.0//EN
CALSCALE:GREGORIAN
METHOD:PUBLISH
BEGIN:VEVENT
UID:69e591b6e117e
DTSTAMP:20260420T023846Z
DTSTART:20260710T220000Z
DTEND:20260711T050000Z
LOCATION:Pacific Raceways 31001 144th Ave SE\,  Kent\,  Wa. 98042
SUMMARY:Friday Night MX Series #10
DESCRIPTION:Friday Night MX Series #10\nhttps://moto-pacific.com/events/fri
 day-night-mx-series26_10/
URL:https://moto-pacific.com/events/friday-night-mx-series26_10/
END:VEVENT
END:VCALENDAR