BEGIN:VCALENDAR
VERSION:2.0
PRODID:-//eventon.com NONSGML v1.0//EN
CALSCALE:GREGORIAN
METHOD:PUBLISH
BEGIN:VEVENT
UID:69e58fd46ebb0
DTSTAMP:20260420T023044Z
DTSTART:20260703T220000Z
DTEND:20260704T050000Z
LOCATION:Pacific Raceways 31001 144th Ave SE\,  Kent\,  Wa. 98042
SUMMARY:Friday Night MX Series #9
DESCRIPTION:Friday Night MX Series #9\nhttps://moto-pacific.com/events/frid
 ay-night-mx-series26_09/
URL:https://moto-pacific.com/events/friday-night-mx-series26_09/
END:VEVENT
END:VCALENDAR