BEGIN:VCALENDAR
VERSION:2.0
PRODID:-//eventon.com NONSGML v1.0//EN
CALSCALE:GREGORIAN
METHOD:PUBLISH
BEGIN:VEVENT
UID:69e59165057d2
DTSTAMP:20260420T023725Z
DTSTART:20260605T220000Z
DTEND:20260606T050000Z
LOCATION:Pacific Raceways 31001 144th Ave SE\,  Kent\,  Wa. 98042
SUMMARY:Friday Night MX Series #6
DESCRIPTION:Friday Night MX Series #6\nhttps://moto-pacific.com/events/frid
 ay-night-mx-series26_06/
URL:https://moto-pacific.com/events/friday-night-mx-series26_06/
END:VEVENT
END:VCALENDAR