BEGIN:VCALENDAR
VERSION:2.0
PRODID:-//eventon.com NONSGML v1.0//EN
CALSCALE:GREGORIAN
METHOD:PUBLISH
BEGIN:VEVENT
UID:69e59267ade7e
DTSTAMP:20260420T024143Z
DTSTART:20260522T220000Z
DTEND:20260523T050000Z
LOCATION:Pacific Raceways 31001 144th Ave SE\,  Kent\,  Wa. 98042
SUMMARY:Friday Night MX Series #4
DESCRIPTION:Friday Night MX Series #4\nhttps://moto-pacific.com/events/frid
 ay-night-mx-series26_04/
URL:https://moto-pacific.com/events/friday-night-mx-series26_04/
END:VEVENT
END:VCALENDAR