BEGIN:VCALENDAR
VERSION:2.0
PRODID:-//eventon.com NONSGML v1.0//EN
CALSCALE:GREGORIAN
METHOD:PUBLISH
BEGIN:VEVENT
UID:69e590da53359
DTSTAMP:20260420T023506Z
DTSTART:20260515T220000Z
DTEND:20260516T050000Z
LOCATION:Pacific Raceways 31001 144th Ave SE\,  Kent\,  Wa. 98042
SUMMARY:Friday Night MX Series #3
DESCRIPTION:Friday Night MX Series #3\nhttps://moto-pacific.com/events/frid
 ay-night-mx-series26_03/
URL:https://moto-pacific.com/events/friday-night-mx-series26_03/
END:VEVENT
END:VCALENDAR