BEGIN:VCALENDAR
VERSION:2.0
PRODID:-//eventon.com NONSGML v1.0//EN
CALSCALE:GREGORIAN
METHOD:PUBLISH
BEGIN:VEVENT
UID:69e590fec4670
DTSTAMP:20260420T023542Z
DTSTART:20260508T220000Z
DTEND:20260509T050000Z
LOCATION:Pacific Raceways 31001 144th Ave SE\,  Kent\,  Wa. 98042
SUMMARY:Friday Night MX Series #2
DESCRIPTION:Friday Night MX Series #2\nhttps://moto-pacific.com/events/frid
 ay-night-mx-series26_02/
URL:https://moto-pacific.com/events/friday-night-mx-series26_02/
END:VEVENT
END:VCALENDAR