BEGIN:VCALENDAR
VERSION:2.0
PRODID:-//eventon.com NONSGML v1.0//EN
CALSCALE:GREGORIAN
METHOD:PUBLISH
BEGIN:VEVENT
UID:69e593736a757
DTSTAMP:20260420T024611Z
DTSTART:20260826T230000Z
DTEND:20260827T040000Z
LOCATION:Pacific Raceways 31001 144th Ave SE\,  Kent\,  Wa. 98042
SUMMARY:Moto Practice
DESCRIPTION:Moto Practice\nhttps://moto-pacific.com/events/moto-practice26_
 15/
URL:https://moto-pacific.com/events/moto-practice26_15/
END:VEVENT
END:VCALENDAR