BEGIN:VCALENDAR
VERSION:2.0
PRODID:-//eventon.com NONSGML v1.0//EN
CALSCALE:GREGORIAN
METHOD:PUBLISH
BEGIN:VEVENT
UID:69e593bb48add
DTSTAMP:20260420T024723Z
DTSTART:20260715T230000Z
DTEND:20260716T040000Z
LOCATION:Pacific Raceways 31001 144th Ave SE\,  Kent\,  Wa. 98042
SUMMARY:Moto Practice
DESCRIPTION:Moto Practice\nhttps://moto-pacific.com/events/moto-practice26_
 11/
URL:https://moto-pacific.com/events/moto-practice26_11/
END:VEVENT
END:VCALENDAR