BEGIN:VCALENDAR
VERSION:2.0
PRODID:-//eventon.com NONSGML v1.0//EN
CALSCALE:GREGORIAN
METHOD:PUBLISH
BEGIN:VEVENT
UID:69e5936f34860
DTSTAMP:20260420T024607Z
DTSTART:20260610T230000Z
DTEND:20260611T040000Z
LOCATION:Pacific Raceways 31001 144th Ave SE\,  Kent\,  Wa. 98042
SUMMARY:Moto Practice
DESCRIPTION:Moto Practice\nhttps://moto-pacific.com/events/moto-practice26_
 06/
URL:https://moto-pacific.com/events/moto-practice26_06/
END:VEVENT
END:VCALENDAR