BEGIN:VCALENDAR
VERSION:2.0
PRODID:-//eventon.com NONSGML v1.0//EN
CALSCALE:GREGORIAN
METHOD:PUBLISH
BEGIN:VEVENT
UID:69e5926cf2f47
DTSTAMP:20260420T024148Z
DTSTART:20260603T230000Z
DTEND:20260604T040000Z
LOCATION:Pacific Raceways 31001 144th Ave SE\,  Kent\,  Wa. 98042
SUMMARY:Moto Practice
DESCRIPTION:Moto Practice\nhttps://moto-pacific.com/events/moto-practice26_
 05/
URL:https://moto-pacific.com/events/moto-practice26_05/
END:VEVENT
END:VCALENDAR