BEGIN:VCALENDAR
VERSION:2.0
PRODID:-//eventon.com NONSGML v1.0//EN
CALSCALE:GREGORIAN
METHOD:PUBLISH
BEGIN:VEVENT
UID:69e5929ce227e
DTSTAMP:20260420T024236Z
DTSTART:20260506T230000Z
DTEND:20260507T040000Z
LOCATION:Pacific Raceways 31001 144th Ave SE\,  Kent\,  Wa. 98042
SUMMARY:Moto Practice
DESCRIPTION:Moto Practice\nhttps://moto-pacific.com/events/moto-practice26_
 01/
URL:https://moto-pacific.com/events/moto-practice26_01/
END:VEVENT
END:VCALENDAR